Workbook
Name cerfa_charges: 'Postes comptables'!$I$3:$I$41
Name cerfa_produits: 'Postes comptables'!$L$3:$L$33
Name cvn_charges: 'Postes comptables'!$I$43:$I$46
Name cvn_produits: 'Postes comptables'!$L$35:$L$37
Name date_debut: Accueil!$C$8
Name date_fin: Accueil!$C$10
Name dep_deroule: 'Postes comptables'!$N$2:$N$72
Name depenses: Analytique!$AD$10:$AD$150
Name postes_depenses: 'Postes comptables'!$C$3:$C$50
Name postes_recettes: 'Postes comptables'!$C$54:$C$96
Name rec_deroule: 'Postes comptables'!$O$2:$O$70
Name recettes: Analytique!$AG$10:$AG$150

Sheet Accueil
G2: SOLDE DES COMPTES AU DEBUT DE L'EXERCICE COMPTABLE | L2: SOLDE DES COMPTES ACTUELS (compte tenu des opérations saisies)
D4: Conception : | E4: Didier CABY | G4: Etablissement bancaire | H4: Nom du compte | J4: Montants (en €) | L4: Etablissement bancaire | M4: Nom du compte | O4: Montants (en €) | Q4: Type de compte
B6: NOM DE L'ASSOCIATION | C6: MON ASSO DEMO | G6: C.AGRICOLE | H6: COMPTE COURANT | J6: 3678.13 | K6: =IF(H6="","",Q6) -> Trésorerie | L6: =G6 -> C.AGRICOLE | M6: =H6 -> COMPTE COURANT | O6: ='Suivi Tréso. '!E6 -> 4858.15 | Q6: Trésorerie | S6: Trésorerie | T6: {=IF(OR(AND(Q6="Trésorerie",M6<>"CAISSE"),ISERROR(INDIRECT("'"&M6&"'!"&"J2"))),"",IF(ROUND(O6,2)<>ROUND(INDIRECT("'"&M6&"'!"&"J2"),2),"Anomalie",""))} | U6: {=IF(OR(AND(Q6="Trésorerie",M6<>"CAISSE"),ISERROR(INDIRECT("'"&M6&"'!"&"J2"))),"",ROUND(INDIRECT("'"&M6&"'!"&"J2"),2)-ROUND(O6,2))}
S7: Actif
B8: DATE DE DEBUT EXERCICE COMPTABLE | C8: 45658 | D8: au format JJ/MM/AAAA | G8: C.AGRICOLE | H8: LIVRET A | J8: 14516.62 | K8: =IF(H8="","",Q8) -> Trésorerie | L8: =G8 -> C.AGRICOLE | M8: =H8 -> LIVRET A | O8: ='Suivi Tréso. '!E15 -> 16343.46 | Q8: Trésorerie | S8: Passif | T8: {=IF(OR(AND(Q8="Trésorerie",M8<>"CAISSE"),ISERROR(INDIRECT("'"&M8&"'!"&"J2"))),"",IF(ROUND(O8,2)<>ROUND(INDIRECT("'"&M8&"'!"&"J2"),2),"Anomalie",""))} | U8: {=IF(OR(AND(Q8="Trésorerie",M8<>"CAISSE"),ISERROR(INDIRECT("'"&M8&"'!"&"J2"))),"",ROUND(INDIRECT("'"&M8&"'!"&"J2"),2)-ROUND(O8,2))}
B10: DATE DE FIN EXERCICE COMPTABLE | C10: 46022 | D10: au format JJ/MM/AAAA | H10: CAISSE | J10: 2.15 | K10: =IF(H10="","",Q10) -> Trésorerie | L10: =G10 -> 0 | M10: =H10 -> CAISSE | O10: ='Suivi Tréso. '!E19 -> 2.15 | Q10: Trésorerie | T10: {=IF(OR(AND(Q10="Trésorerie",M10<>"CAISSE"),ISERROR(INDIRECT("'"&M10&"'!"&"J2"))),"",IF(ROUND(O10,2)<>ROUND(INDIRECT("'"&M10&"'!"&"J2"),2),"Anomalie",""))} | U10: {=IF(OR(AND(Q10="Trésorerie",M10<>"CAISSE"),ISERROR(INDIRECT("'"&M10&"'!"&"J2"))),"",ROUND(INDIRECT("'"&M10&"'!"&"J2"),2)-ROUND(O10,2))}
K12: =IF(H12="","",Q12) | L12: =G12 -> 0 | M12: =H12 -> 0 | O12: ='Suivi Tréso. '!E23 -> 0 | Q12: Trésorerie | T12: {=IF(OR(AND(Q12="Trésorerie",M12<>"CAISSE"),ISERROR(INDIRECT("'"&M12&"'!"&"J2"))),"",IF(ROUND(O12,2)<>ROUND(INDIRECT("'"&M12&"'!"&"J2"),2),"Anomalie",""))} | U12: {=IF(OR(AND(Q12="Trésorerie",M12<>"CAISSE"),ISERROR(INDIRECT("'"&M12&"'!"&"J2"))),"",ROUND(INDIRECT("'"&M12&"'!"&"J2"),2)-ROUND(O12,2))}
G14: SUMUP | H14: CARTE BANCAIRE | J14: 684.02 | K14: =IF(H14="","",Q14) -> Trésorerie | L14: =G14 -> SUMUP | M14: =H14 -> CARTE BANCAIRE | O14: ='Suivi Tréso. '!E27 -> 117.12 | Q14: Trésorerie | T14: {=IF(OR(AND(Q14="Trésorerie",M14<>"CAISSE"),ISERROR(INDIRECT("'"&M14&"'!"&"J2"))),"",IF(ROUND(O14,2)<>ROUND(INDIRECT("'"&M14&"'!"&"J2"),2),"Anomalie",""))} | U14: {=IF(OR(AND(Q14="Trésorerie",M14<>"CAISSE"),ISERROR(INDIRECT("'"&M14&"'!"&"J2"))),"",ROUND(INDIRECT("'"&M14&"'!"&"J2"),2)-ROUND(O14,2))}
H16: A PAYER | J16: -104 | K16: =IF(H16="","",Q16) -> Passif | L16: =G16 -> 0 | M16: =H16 -> A PAYER | O16: ='Suivi Tréso. '!E31 -> -368.5 | Q16: Passif | T16: {=IF(OR(AND(Q16="Trésorerie",M16<>"CAISSE"),ISERROR(INDIRECT("'"&M16&"'!"&"J2"))),"",IF(ROUND(O16,2)<>ROUND(INDIRECT("'"&M16&"'!"&"J2"),2),"Anomalie",""))} | U16: {=IF(OR(AND(Q16="Trésorerie",M16<>"CAISSE"),ISERROR(INDIRECT("'"&M16&"'!"&"J2"))),"",ROUND(INDIRECT("'"&M16&"'!"&"J2"),2)-ROUND(O16,2))} -> 0
H18: A RECEVOIR | J18: 780 | K18: =IF(H18="","",Q18) -> Actif | L18: =G18 -> 0 | M18: =H18 -> A RECEVOIR | O18: ='Suivi Tréso. '!E35 -> 126 | Q18: Actif | T18: {=IF(OR(AND(Q18="Trésorerie",M18<>"CAISSE"),ISERROR(INDIRECT("'"&M18&"'!"&"J2"))),"",IF(ROUND(O18,2)<>ROUND(INDIRECT("'"&M18&"'!"&"J2"),2),"Anomalie",""))} | U18: {=IF(OR(AND(Q18="Trésorerie",M18<>"CAISSE"),ISERROR(INDIRECT("'"&M18&"'!"&"J2"))=TRUE),"",ROUND(INDIRECT("'"&M18&"'!"&"J2"),2)-ROUND(O18,2))} -> 0
H19: Activités
H20: A REVERSER | J20: 0 | K20: =IF(H20="","",Q20) -> Trésorerie | L20: =G20 -> 0 | M20: =H20 -> A REVERSER | O20: ='Suivi Tréso. '!E39 -> 0 | Q20: Trésorerie | T20: {=IF(OR(AND(Q20="Trésorerie",M20<>"CAISSE"),ISERROR(INDIRECT("'"&M20&"'!"&"J2"))),"",IF(ROUND(O20,2)<>ROUND(INDIRECT("'"&M20&"'!"&"J2"),2),"Anomalie",""))} | U20: {=IF(OR(AND(Q20="Trésorerie",M20<>"CAISSE"),ISERROR(INDIRECT("'"&M20&"'!"&"J2"))),"",ROUND(INDIRECT("'"&M20&"'!"&"J2"),2)-ROUND(O20,2))}
K22: =IF(H22="","",Q22) | L22: =G22 -> 0 | M22: =H22 -> 0 | O22: ='Suivi Tréso. '!E43 -> 0 | Q22: Trésorerie | T22: {=IF(OR(AND(Q22="Trésorerie",M22<>"CAISSE"),ISERROR(INDIRECT("'"&M22&"'!"&"J2"))),"",IF(ROUND(O22,2)<>ROUND(INDIRECT("'"&M22&"'!"&"J2"),2),"Anomalie",""))}
K24: =IF(H24="","",Q24) | L24: =G24 -> 0 | M24: =H24 -> 0 | O24: ='Suivi Tréso. '!E47 -> 0 | Q24: Trésorerie | T24: {=IF(OR(AND(Q24="Trésorerie",M24<>"CAISSE"),ISERROR(INDIRECT("'"&M24&"'!"&"J2"))),"",IF(ROUND(O24,2)<>ROUND(INDIRECT("'"&M24&"'!"&"J2"),2),"Anomalie",""))}
G26: TOTAL | J26: =SUM(J6:J24) -> 19556.92 | L26: TOTAL | O26: =SUM(O6:O24) -> 21078.38
G28: SITUATION DE L'EXERCICE | J28: ='Synth (détaillé)'!H8 -> 1521.46 | L28: EVOLUTION DE LA TRESORERIE | O28: =O26-J26 -> 1521.46 | Q28: =IF(J30<>O30,"Il y a une anomalie dans votre saisie","")
J30: =ROUND(J28,2) -> 1521.46 | O30: =ROUND(O28,2) -> 1521.46
L32: = zones de saisie
B33: Version : V.20260110

Sheet Postes comptables
C1: COMPTES PERSONNALISES DE L'ASSOCIATION | D1: POSTES DU CERFA | E1: Eléments à inscrire dans ce poste | H1: PLAN DE COMPTES DU CERFA
C2: POSTES DE DEPENSES | H2: LES CHARGES (DEPENSES) | K2: LES PRODUITS (RECETTES) | N2: ="-------"&A3 -> -------60 - ACHATS | O2: ="-------"&A54 -> -------70 - REMUN. DES SERVICES
A3: =H3 -> 60 - ACHATS | B3: 60-01 | C3: Achat de matériel musical | D3: Fournitures d'ateliers ou d'activités | E3: batteries, instruments | F3: =IF(C3="","",IF(COUNTIF('Postes comptables'!$I:$I,D3)=0,"Anomalie","")) | H3: 60 - ACHATS | I3: Fournitures d'ateliers ou d'activités | K3: 70 - REMUN. DES SERVICES | L3: Participation des usagers | N3: =IF(C3="","",C3) -> Achat de matériel musical | O3: =IF(C54="","",C54) -> Recettes buvettes | Q3: {=IF(ROWS($1:1)<=SUM(IF(dep_deroule<>"",1/COUNTIF(dep_deroule,dep_deroule))),INDEX(dep_deroule,SMALL(IF(FREQUENCY(IF(dep_deroule<>"",MATCH(dep_deroule,dep_deroule,0)),ROW(INDIRECT("1:"&ROWS(dep_deroule))))>0,ROW(INDIRECT("1:"&ROWS(dep_deroule)))),ROWS($1:1))),"")} -> -------60 - ACHATS | R3: {=IF(ROWS($1:1)<=SUM(IF(rec_deroule<>"",1/COUNTIF(rec_deroule,rec_deroule))),INDEX(rec_deroule,SMALL(IF(FREQUENCY(IF(rec_deroule<>"",MATCH(rec_deroule,rec_deroule,0)),ROW(INDIRECT("1:"&ROWS(rec_deroule))))>0,ROW(INDIRECT("1:"&ROWS(rec_deroule)))),ROWS($1:1))),"")} -> -------70 - REMUN. DES SERVICES
B4: 60-02 | C4: Achat de partitions | D4: Fournitures d'ateliers ou d'activités | E4: partitions achetées | F4: =IF(C4="","",IF(COUNTIF('Postes comptables'!$I:$I,D4)=0,"Anomalie","")) | I4: Eau, gaz, électricité | L4: Prestations de services CNAF | N4: =IF(C4="","",C4) -> Achat de partitions | O4: =IF(C55="","",C55) -> Prestations concerts | Q4: {=IF(ROWS($1:2)<=SUM(IF(dep_deroule<>"",1/COUNTIF(dep_deroule,dep_deroule))),INDEX(dep_deroule,SMALL(IF(FREQUENCY(IF(dep_deroule<>"",MATCH(dep_deroule,dep_deroule,0)),ROW(INDIRECT("1:"&ROWS(dep_deroule))))>0,ROW(INDIRECT("1:"&ROWS(dep_deroule)))),ROWS($1:2))),"")} -> Achat de matériel musical | R4: {=IF(ROWS($1:2)<=SUM(IF(rec_deroule<>"",1/COUNTIF(rec_deroule,rec_deroule))),INDEX(rec_deroule,SMALL(IF(FREQUENCY(IF(rec_deroule<>"",MATCH(rec_deroule,rec_deroule,0)),ROW(INDIRECT("1:"&ROWS(rec_deroule))))>0,ROW(INDIRECT("1:"&ROWS(rec_deroule)))),ROWS($1:2))),"")} -> Recettes buvettes
B5: 60-03 | C5: Achat de matériel et accessoires | D5: Fournitures d'ateliers ou d'activités | E5: pare sons, classeurs musiciens, lampes pupitres | F5: =IF(C5="","",IF(COUNTIF('Postes comptables'!$I:$I,D5)=0,"Anomalie","")) | I5: Fournitures d'entretien et de bureau | L5: Autres prestations de services | N5: =IF(C5="","",C5) -> Achat de matériel et accessoires | O5: =IF(C56="","",C56) -> Participations musiciens | Q5: {=IF(ROWS($1:3)<=SUM(IF(dep_deroule<>"",1/COUNTIF(dep_deroule,dep_deroule))),INDEX(dep_deroule,SMALL(IF(FREQUENCY(IF(dep_deroule<>"",MATCH(dep_deroule,dep_deroule,0)),ROW(INDIRECT("1:"&ROWS(dep_deroule))))>0,ROW(INDIRECT("1:"&ROWS(dep_deroule)))),ROWS($1:3))),"")} -> Achat de partitions | R5: {=IF(ROWS($1:3)<=SUM(IF(rec_deroule<>"",1/COUNTIF(rec_deroule,rec_deroule))),INDEX(rec_deroule,SMALL(IF(FREQUENCY(IF(rec_deroule<>"",MATCH(rec_deroule,rec_deroule,0)),ROW(INDIRECT("1:"&ROWS(rec_deroule))))>0,ROW(INDIRECT("1:"&ROWS(rec_deroule)))),ROWS($1:3))),"")} -> Prestations concerts
B6: 60-04 | C6: Fournitures énergie | D6: Eau, gaz, électricité | E6: Eau, gaz, électricité | F6: =IF(C6="","",IF(COUNTIF('Postes comptables'!$I:$I,D6)=0,"Anomalie","")) | I6: Autres achats 60 | N6: =IF(C6="","",C6) -> Fournitures énergie | O6: =IF(C57="","",C57) -> Rétrocession Licences Office 365 | Q6: {=IF(ROWS($1:4)<=SUM(IF(dep_deroule<>"",1/COUNTIF(dep_deroule,dep_deroule))),INDEX(dep_deroule,SMALL(IF(FREQUENCY(IF(dep_deroule<>"",MATCH(dep_deroule,dep_deroule,0)),ROW(INDIRECT("1:"&ROWS(dep_deroule))))>0,ROW(INDIRECT("1:"&ROWS(dep_deroule)))),ROWS($1:4))),"")} -> Achat de matériel et accessoires | R6: {=IF(ROWS($1:4)<=SUM(IF(rec_deroule<>"",1/COUNTIF(rec_deroule,rec_deroule))),INDEX(rec_deroule,SMALL(IF(FREQUENCY(IF(rec_deroule<>"",MATCH(rec_deroule,rec_deroule,0)),ROW(INDIRECT("1:"&ROWS(rec_deroule))))>0,ROW(INDIRECT("1:"&ROWS(rec_deroule)))),ROWS($1:4))),"")} -> Participations musiciens
B7: 60-05 | C7: Fournitures entretien et petit équipement | D7: Fournitures d'entretien et de bureau | E7: Outillages, produits nettoyage, antibactériens, masques … | F7: =IF(C7="","",IF(COUNTIF('Postes comptables'!$I:$I,D7)=0,"Anomalie","")) | N7: =IF(C7="","",C7) -> Fournitures entretien et petit équipement | O7: =IF(C58="","",C58) -> Vente lampes pupitres | Q7: {=IF(ROWS($1:5)<=SUM(IF(dep_deroule<>"",1/COUNTIF(dep_deroule,dep_deroule))),INDEX(dep_deroule,SMALL(IF(FREQUENCY(IF(dep_deroule<>"",MATCH(dep_deroule,dep_deroule,0)),ROW(INDIRECT("1:"&ROWS(dep_deroule))))>0,ROW(INDIRECT("1:"&ROWS(dep_deroule)))),ROWS($1:5))),"")} -> Fournitures énergie | R7: {=IF(ROWS($1:5)<=SUM(IF(rec_deroule<>"",1/COUNTIF(rec_deroule,rec_deroule))),INDEX(rec_deroule,SMALL(IF(FREQUENCY(IF(rec_deroule<>"",MATCH(rec_deroule,rec_deroule,0)),ROW(INDIRECT("1:"&ROWS(rec_deroule))))>0,ROW(INDIRECT("1:"&ROWS(rec_deroule)))),ROWS($1:5))),"")} -> Rétrocession Licences Office 365
B8: 60-06 | C8: Fournitures de bureau, de reprographie | D8: Fournitures d'entretien et de bureau | E8: papier, crayons, encre pour l'imprimante, boites archives, enveloppes | F8: =IF(C8="","",IF(COUNTIF('Postes comptables'!$I:$I,D8)=0,"Anomalie","")) | H8: 61 - SERVICES EXTERIEURS | I8: Sous traitance générale | K8: 73 - CONCOURS PUBLICS | L8: Concours publics | N8: =IF(C8="","",C8) -> Fournitures de bureau, de reprographie | O8: ="-------"&A59 -> -------73 - CONCOURS PUBLICS | Q8: {=IF(ROWS($1:6)<=SUM(IF(dep_deroule<>"",1/COUNTIF(dep_deroule,dep_deroule))),INDEX(dep_deroule,SMALL(IF(FREQUENCY(IF(dep_deroule<>"",MATCH(dep_deroule,dep_deroule,0)),ROW(INDIRECT("1:"&ROWS(dep_deroule))))>0,ROW(INDIRECT("1:"&ROWS(dep_deroule)))),ROWS($1:6))),"")} -> Fournitures entretien et petit équipement | R8: {=IF(ROWS($1:6)<=SUM(IF(rec_deroule<>"",1/COUNTIF(rec_deroule,rec_deroule))),INDEX(rec_deroule,SMALL(IF(FREQUENCY(IF(rec_deroule<>"",MATCH(rec_deroule,rec_deroule,0)),ROW(INDIRECT("1:"&ROWS(rec_deroule))))>0,ROW(INDIRECT("1:"&ROWS(rec_deroule)))),ROWS($1:6))),"")} -> Vente lampes pupitres
B9: 60-07 | C9: Achat licences Office 365 | D9: Autres achats 60 | E9: Licences Office 365 | F9: =IF(C9="","",IF(COUNTIF('Postes comptables'!$I:$I,D9)=0,"Anomalie","")) | I9: Formation des bénévoles | N9: =IF(C9="","",C9) -> Achat licences Office 365 | O9: =IF(C59="","",C59) | Q9: {=IF(ROWS($1:7)<=SUM(IF(dep_deroule<>"",1/COUNTIF(dep_deroule,dep_deroule))),INDEX(dep_deroule,SMALL(IF(FREQUENCY(IF(dep_deroule<>"",MATCH(dep_deroule,dep_deroule,0)),ROW(INDIRECT("1:"&ROWS(dep_deroule))))>0,ROW(INDIRECT("1:"&ROWS(dep_deroule)))),ROWS($1:7))),"")} -> Fournitures de bureau, de reprographie | R9: {=IF(ROWS($1:7)<=SUM(IF(rec_deroule<>"",1/COUNTIF(rec_deroule,rec_deroule))),INDEX(rec_deroule,SMALL(IF(FREQUENCY(IF(rec_deroule<>"",MATCH(rec_deroule,rec_deroule,0)),ROW(INDIRECT("1:"&ROWS(rec_deroule))))>0,ROW(INDIRECT("1:"&ROWS(rec_deroule)))),ROWS($1:7))),"")} -> -------73 - CONCOURS PUBLICS
A10: =H8 -> 61 - SERVICES EXTERIEURS | B10: 61-01 | C10: Locations | D10: Locations | E10: location camion pour matériel | F10: =IF(C10="","",IF(COUNTIF('Postes comptables'!$I:$I,D10)=0,"Anomalie","")) | I10: Locations | K10: 74 - SUBVENTIONS | L10: Etat | N10: ="-------"&A10 -> -------61 - SERVICES EXTERIEURS | O10: =IF(C60="","",C60) | Q10: {=IF(ROWS($1:8)<=SUM(IF(dep_deroule<>"",1/COUNTIF(dep_deroule,dep_deroule))),INDEX(dep_deroule,SMALL(IF(FREQUENCY(IF(dep_deroule<>"",MATCH(dep_deroule,dep_deroule,0)),ROW(INDIRECT("1:"&ROWS(dep_deroule))))>0,ROW(INDIRECT("1:"&ROWS(dep_deroule)))),ROWS($1:8))),"")} -> Achat licences Office 365 | R10: {=IF(ROWS($1:8)<=SUM(IF(rec_deroule<>"",1/COUNTIF(rec_deroule,rec_deroule))),INDEX(rec_deroule,SMALL(IF(FREQUENCY(IF(rec_deroule<>"",MATCH(rec_deroule,rec_deroule,0)),ROW(INDIRECT("1:"&ROWS(rec_deroule))))>0,ROW(INDIRECT("1:"&ROWS(rec_deroule)))),ROWS($1:8))),"")} -> -------74 - SUBVENTIONS
B11: 61-02 | C11: Entretien et réparations | D11: Travaux d'entretien et de réparation | E11: Entretien et réparations des immeubles, des matériels | F11: =IF(C11="","",IF(COUNTIF('Postes comptables'!$I:$I,D11)=0,"Anomalie","")) | I11: Travaux d'entretien et de réparation | L11: Ville de Reims Fonctionnement | N11: =IF(C10="","",C10) -> Locations | O11: ="-------"&A61 -> -------74 - SUBVENTIONS | Q11: {=IF(ROWS($1:9)<=SUM(IF(dep_deroule<>"",1/COUNTIF(dep_deroule,dep_deroule))),INDEX(dep_deroule,SMALL(IF(FREQUENCY(IF(dep_deroule<>"",MATCH(dep_deroule,dep_deroule,0)),ROW(INDIRECT("1:"&ROWS(dep_deroule))))>0,ROW(INDIRECT("1:"&ROWS(dep_deroule)))),ROWS($1:9))),"")} -> -------61 - SERVICES EXTERIEURS | R11: {=IF(ROWS($1:9)<=SUM(IF(rec_deroule<>"",1/COUNTIF(rec_deroule,rec_deroule))),INDEX(rec_deroule,SMALL(IF(FREQUENCY(IF(rec_deroule<>"",MATCH(rec_deroule,rec_deroule,0)),ROW(INDIRECT("1:"&ROWS(rec_deroule))))>0,ROW(INDIRECT("1:"&ROWS(rec_deroule)))),ROWS($1:9))),"")} -> Etat 1 (préciser ministère)
B12: 61-03 | C12: Primes d'assurance | D12: Primes d'assurance | E12: prime assurance AXA | F12: =IF(C12="","",IF(COUNTIF('Postes comptables'!$I:$I,D12)=0,"Anomalie","")) | I12: Primes d'assurance | L12: Ville de Reims pour une action | N12: =IF(C11="","",C11) -> Entretien et réparations | O12: =IF(C61="","",C61) -> Etat 1 (préciser ministère) | Q12: {=IF(ROWS($1:10)<=SUM(IF(dep_deroule<>"",1/COUNTIF(dep_deroule,dep_deroule))),INDEX(dep_deroule,SMALL(IF(FREQUENCY(IF(dep_deroule<>"",MATCH(dep_deroule,dep_deroule,0)),ROW(INDIRECT("1:"&ROWS(dep_deroule))))>0,ROW(INDIRECT("1:"&ROWS(dep_deroule)))),ROWS($1:10))),"")} -> Locations | R12: {=IF(ROWS($1:10)<=SUM(IF(rec_deroule<>"",1/COUNTIF(rec_deroule,rec_deroule))),INDEX(rec_deroule,SMALL(IF(FREQUENCY(IF(rec_deroule<>"",MATCH(rec_deroule,rec_deroule,0)),ROW(INDIRECT("1:"&ROWS(rec_deroule))))>0,ROW(INDIRECT("1:"&ROWS(rec_deroule)))),ROWS($1:10))),"")} -> Ville de Reims : fonctionnement
B13: 61-04 | C13: Sécurité concerts | D13: Sous traitance générale | E13: Frais liés à la société de surveillance et de sécurité concerts CRR | F13: =IF(C13="","",IF(COUNTIF('Postes comptables'!$I:$I,D13)=0,"Anomalie","")) | I13: Documentation / études et recherches | L13: Ville de Reims Equipement | N13: =IF(C12="","",C12) -> Primes d'assurance | O13: =IF(C62="","",C62) | Q13: {=IF(ROWS($1:11)<=SUM(IF(dep_deroule<>"",1/COUNTIF(dep_deroule,dep_deroule))),INDEX(dep_deroule,SMALL(IF(FREQUENCY(IF(dep_deroule<>"",MATCH(dep_deroule,dep_deroule,0)),ROW(INDIRECT("1:"&ROWS(dep_deroule))))>0,ROW(INDIRECT("1:"&ROWS(dep_deroule)))),ROWS($1:11))),"")} -> Entretien et réparations | R13: {=IF(ROWS($1:11)<=SUM(IF(rec_deroule<>"",1/COUNTIF(rec_deroule,rec_deroule))),INDEX(rec_deroule,SMALL(IF(FREQUENCY(IF(rec_deroule<>"",MATCH(rec_deroule,rec_deroule,0)),ROW(INDIRECT("1:"&ROWS(rec_deroule))))>0,ROW(INDIRECT("1:"&ROWS(rec_deroule)))),ROWS($1:11))),"")} -> Ville de Reims : projet
B14: 61-05 | C14: Prestations et honoraires | D14: Sous traitance générale | E14: Prestations pour concerts | F14: =IF(C14="","",IF(COUNTIF('Postes comptables'!$I:$I,D14)=0,"Anomalie","")) | I14: Autres services externes 61 | L14: Région Grand-Est | N14: =IF(C13="","",C13) -> Sécurité concerts | O14: =IF(C63="","",C63) | Q14: {=IF(ROWS($1:12)<=SUM(IF(dep_deroule<>"",1/COUNTIF(dep_deroule,dep_deroule))),INDEX(dep_deroule,SMALL(IF(FREQUENCY(IF(dep_deroule<>"",MATCH(dep_deroule,dep_deroule,0)),ROW(INDIRECT("1:"&ROWS(dep_deroule))))>0,ROW(INDIRECT("1:"&ROWS(dep_deroule)))),ROWS($1:12))),"")} -> Primes d'assurance | R14: {=IF(ROWS($1:12)<=SUM(IF(rec_deroule<>"",1/COUNTIF(rec_deroule,rec_deroule))),INDEX(rec_deroule,SMALL(IF(FREQUENCY(IF(rec_deroule<>"",MATCH(rec_deroule,rec_deroule,0)),ROW(INDIRECT("1:"&ROWS(rec_deroule))))>0,ROW(INDIRECT("1:"&ROWS(rec_deroule)))),ROWS($1:12))),"")} -> Ville de Reims : équipement
B15: 61-06 | C15: Domaine h3c-reims.fr | D15: Locations | E15: Frais hébergement site internet | F15: =IF(C15="","",IF(COUNTIF('Postes comptables'!$I:$I,D15)=0,"Anomalie","")) | L15: Département de la Marne | N15: =IF(C14="","",C14) -> Prestations et honoraires | O15: =IF(C64="","",C64) -> Ville de Reims : fonctionnement | Q15: {=IF(ROWS($1:13)<=SUM(IF(dep_deroule<>"",1/COUNTIF(dep_deroule,dep_deroule))),INDEX(dep_deroule,SMALL(IF(FREQUENCY(IF(dep_deroule<>"",MATCH(dep_deroule,dep_deroule,0)),ROW(INDIRECT("1:"&ROWS(dep_deroule))))>0,ROW(INDIRECT("1:"&ROWS(dep_deroule)))),ROWS($1:13))),"")} -> Sécurité concerts | R15: {=IF(ROWS($1:13)<=SUM(IF(rec_deroule<>"",1/COUNTIF(rec_deroule,rec_deroule))),INDEX(rec_deroule,SMALL(IF(FREQUENCY(IF(rec_deroule<>"",MATCH(rec_deroule,rec_deroule,0)),ROW(INDIRECT("1:"&ROWS(rec_deroule))))>0,ROW(INDIRECT("1:"&ROWS(rec_deroule)))),ROWS($1:13))),"")} -> Région Grand-Est
B16: 61-07 | F16: =IF(C16="","",IF(COUNTIF('Postes comptables'!$I:$I,D16)=0,"Anomalie","")) | H16: 62 - AUTRES SERVICES EXTERIEURS | I16: Transports d'activités et d'animations | L16: Autres communes | N16: =IF(C15="","",C15) -> Domaine h3c-reims.fr | O16: =IF(C65="","",C65) -> Ville de Reims : projet | Q16: {=IF(ROWS($1:14)<=SUM(IF(dep_deroule<>"",1/COUNTIF(dep_deroule,dep_deroule))),INDEX(dep_deroule,SMALL(IF(FREQUENCY(IF(dep_deroule<>"",MATCH(dep_deroule,dep_deroule,0)),ROW(INDIRECT("1:"&ROWS(dep_deroule))))>0,ROW(INDIRECT("1:"&ROWS(dep_deroule)))),ROWS($1:14))),"")} -> Prestations et honoraires | R16: {=IF(ROWS($1:14)<=SUM(IF(rec_deroule<>"",1/COUNTIF(rec_deroule,rec_deroule))),INDEX(rec_deroule,SMALL(IF(FREQUENCY(IF(rec_deroule<>"",MATCH(rec_deroule,rec_deroule,0)),ROW(INDIRECT("1:"&ROWS(rec_deroule))))>0,ROW(INDIRECT("1:"&ROWS(rec_deroule)))),ROWS($1:14))),"")} -> Département de la Marne
A17: =H16 -> 62 - AUTRES SERVICES EXTERIEURS | B17: 62-01 | C17: Cadeaux aux musiciens | D17: Autres services extérieurs 62 | E17: cadeaux pour départs, naissance, mariage | F17: =IF(C17="","",IF(COUNTIF('Postes comptables'!$I:$I,D17)=0,"Anomalie","")) | I17: Missions et réceptions | L17: A.C.S.E. | N17: =IF(C16="","",C16) | O17: =IF(C66="","",C66) -> Ville de Reims : équipement | Q17: {=IF(ROWS($1:15)<=SUM(IF(dep_deroule<>"",1/COUNTIF(dep_deroule,dep_deroule))),INDEX(dep_deroule,SMALL(IF(FREQUENCY(IF(dep_deroule<>"",MATCH(dep_deroule,dep_deroule,0)),ROW(INDIRECT("1:"&ROWS(dep_deroule))))>0,ROW(INDIRECT("1:"&ROWS(dep_deroule)))),ROWS($1:15))),"")} -> Domaine h3c-reims.fr | R17: {=IF(ROWS($1:15)<=SUM(IF(rec_deroule<>"",1/COUNTIF(rec_deroule,rec_deroule))),INDEX(rec_deroule,SMALL(IF(FREQUENCY(IF(rec_deroule<>"",MATCH(rec_deroule,rec_deroule,0)),ROW(INDIRECT("1:"&ROWS(rec_deroule))))>0,ROW(INDIRECT("1:"&ROWS(rec_deroule)))),ROWS($1:15))),"")} -> Autres communes
B18: 62-02 | C18: Publications, relations publiques | D18: Autres services extérieurs 62 | E18: cadeaux lors concerts | F18: =IF(C18="","",IF(COUNTIF('Postes comptables'!$I:$I,D18)=0,"Anomalie","")) | I18: Frais postaux - téléphone | L18: Caisse d'Allocations familiales | N18: ="-------"&A17 -> -------62 - AUTRES SERVICES EXTERIEURS | O18: =IF(C67="","",C67) -> Région Grand-Est | Q18: {=IF(ROWS($1:16)<=SUM(IF(dep_deroule<>"",1/COUNTIF(dep_deroule,dep_deroule))),INDEX(dep_deroule,SMALL(IF(FREQUENCY(IF(dep_deroule<>"",MATCH(dep_deroule,dep_deroule,0)),ROW(INDIRECT("1:"&ROWS(dep_deroule))))>0,ROW(INDIRECT("1:"&ROWS(dep_deroule)))),ROWS($1:16))),"")} -> -------62 - AUTRES SERVICES EXTERIEURS | R18: {=IF(ROWS($1:16)<=SUM(IF(rec_deroule<>"",1/COUNTIF(rec_deroule,rec_deroule))),INDEX(rec_deroule,SMALL(IF(FREQUENCY(IF(rec_deroule<>"",MATCH(rec_deroule,rec_deroule,0)),ROW(INDIRECT("1:"&ROWS(rec_deroule))))>0,ROW(INDIRECT("1:"&ROWS(rec_deroule)))),ROWS($1:16))),"")} -> A.C.S.E.
B19: 62-03 | C19: Frais réception bureau/ca/forums | D19: Missions et réceptions | E19: achats lors ca/bureau | F19: =IF(C19="","",IF(COUNTIF('Postes comptables'!$I:$I,D19)=0,"Anomalie","")) | I19: Services bancaires | L19: Caisse des Dépôts et Consignations | N19: =IF(C17="","",C17) -> Cadeaux aux musiciens | O19: =IF(C68="","",C68) | Q19: {=IF(ROWS($1:17)<=SUM(IF(dep_deroule<>"",1/COUNTIF(dep_deroule,dep_deroule))),INDEX(dep_deroule,SMALL(IF(FREQUENCY(IF(dep_deroule<>"",MATCH(dep_deroule,dep_deroule,0)),ROW(INDIRECT("1:"&ROWS(dep_deroule))))>0,ROW(INDIRECT("1:"&ROWS(dep_deroule)))),ROWS($1:17))),"")} -> Cadeaux aux musiciens | R19: {=IF(ROWS($1:17)<=SUM(IF(rec_deroule<>"",1/COUNTIF(rec_deroule,rec_deroule))),INDEX(rec_deroule,SMALL(IF(FREQUENCY(IF(rec_deroule<>"",MATCH(rec_deroule,rec_deroule,0)),ROW(INDIRECT("1:"&ROWS(rec_deroule))))>0,ROW(INDIRECT("1:"&ROWS(rec_deroule)))),ROWS($1:17))),"")} -> Caisse d'Allocations familiales
B20: 62-04 | C20: Frais réception concerts | D20: Missions et réceptions | E20: achats cocktails après concerts | F20: =IF(C20="","",IF(COUNTIF('Postes comptables'!$I:$I,D20)=0,"Anomalie","")) | I20: Autres services extérieurs 62 | L20: Union européenne | N20: =IF(C18="","",C18) -> Publications, relations publiques | O20: =IF(C69="","",C69) -> Département de la Marne | Q20: {=IF(ROWS($1:18)<=SUM(IF(dep_deroule<>"",1/COUNTIF(dep_deroule,dep_deroule))),INDEX(dep_deroule,SMALL(IF(FREQUENCY(IF(dep_deroule<>"",MATCH(dep_deroule,dep_deroule,0)),ROW(INDIRECT("1:"&ROWS(dep_deroule))))>0,ROW(INDIRECT("1:"&ROWS(dep_deroule)))),ROWS($1:18))),"")} -> Publications, relations publiques | R20: {=IF(ROWS($1:18)<=SUM(IF(rec_deroule<>"",1/COUNTIF(rec_deroule,rec_deroule))),INDEX(rec_deroule,SMALL(IF(FREQUENCY(IF(rec_deroule<>"",MATCH(rec_deroule,rec_deroule,0)),ROW(INDIRECT("1:"&ROWS(rec_deroule))))>0,ROW(INDIRECT("1:"&ROWS(rec_deroule)))),ROWS($1:18))),"")} -> Caisse des Dépôts et Consignations
B21: 62-05 | C21: Frais réception Ste Cécile | D21: Missions et réceptions | E21: frais liés à la Ste Cécile | F21: =IF(C21="","",IF(COUNTIF('Postes comptables'!$I:$I,D21)=0,"Anomalie","")) | L21: Autres subventions | N21: =IF(C19="","",C19) -> Frais réception bureau/ca/forums | O21: =IF(C70="","",C70) -> Autres communes | Q21: {=IF(ROWS($1:19)<=SUM(IF(dep_deroule<>"",1/COUNTIF(dep_deroule,dep_deroule))),INDEX(dep_deroule,SMALL(IF(FREQUENCY(IF(dep_deroule<>"",MATCH(dep_deroule,dep_deroule,0)),ROW(INDIRECT("1:"&ROWS(dep_deroule))))>0,ROW(INDIRECT("1:"&ROWS(dep_deroule)))),ROWS($1:19))),"")} -> Frais réception bureau/ca/forums | R21: {=IF(ROWS($1:19)<=SUM(IF(rec_deroule<>"",1/COUNTIF(rec_deroule,rec_deroule))),INDEX(rec_deroule,SMALL(IF(FREQUENCY(IF(rec_deroule<>"",MATCH(rec_deroule,rec_deroule,0)),ROW(INDIRECT("1:"&ROWS(rec_deroule))))>0,ROW(INDIRECT("1:"&ROWS(rec_deroule)))),ROWS($1:19))),"")} -> Union Européenne
B22: 62-06 | F22: =IF(C22="","",IF(COUNTIF('Postes comptables'!$I:$I,D22)=0,"Anomalie","")) | H22: 63 - IMPOTS ET TAXES | I22: Taxe sur les salaires | N22: =IF(C20="","",C20) -> Frais réception concerts | O22: =IF(C71="","",C71) | Q22: {=IF(ROWS($1:20)<=SUM(IF(dep_deroule<>"",1/COUNTIF(dep_deroule,dep_deroule))),INDEX(dep_deroule,SMALL(IF(FREQUENCY(IF(dep_deroule<>"",MATCH(dep_deroule,dep_deroule,0)),ROW(INDIRECT("1:"&ROWS(dep_deroule))))>0,ROW(INDIRECT("1:"&ROWS(dep_deroule)))),ROWS($1:20))),"")} -> Frais réception concerts | R22: {=IF(ROWS($1:20)<=SUM(IF(rec_deroule<>"",1/COUNTIF(rec_deroule,rec_deroule))),INDEX(rec_deroule,SMALL(IF(FREQUENCY(IF(rec_deroule<>"",MATCH(rec_deroule,rec_deroule,0)),ROW(INDIRECT("1:"&ROWS(rec_deroule))))>0,ROW(INDIRECT("1:"&ROWS(rec_deroule)))),ROWS($1:20))),"")} -> Autres subventions
B23: 62-07 | C23: Frais postaux et télécommunications | D23: Frais postaux - téléphone | E23: Frais de timbres et de téléphone | F23: =IF(C23="","",IF(COUNTIF('Postes comptables'!$I:$I,D23)=0,"Anomalie","")) | I23: Autres impôts et taxes | N23: =IF(C21="","",C21) -> Frais réception Ste Cécile | O23: =IF(C72="","",C72) -> A.C.S.E. | Q23: {=IF(ROWS($1:21)<=SUM(IF(dep_deroule<>"",1/COUNTIF(dep_deroule,dep_deroule))),INDEX(dep_deroule,SMALL(IF(FREQUENCY(IF(dep_deroule<>"",MATCH(dep_deroule,dep_deroule,0)),ROW(INDIRECT("1:"&ROWS(dep_deroule))))>0,ROW(INDIRECT("1:"&ROWS(dep_deroule)))),ROWS($1:21))),"")} -> Frais réception Ste Cécile | R23: {=IF(ROWS($1:21)<=SUM(IF(rec_deroule<>"",1/COUNTIF(rec_deroule,rec_deroule))),INDEX(rec_deroule,SMALL(IF(FREQUENCY(IF(rec_deroule<>"",MATCH(rec_deroule,rec_deroule,0)),ROW(INDIRECT("1:"&ROWS(rec_deroule))))>0,ROW(INDIRECT("1:"&ROWS(rec_deroule)))),ROWS($1:21))),"")} -> -------75 - AUTRES PRODUITS GESTION COURANTE
B24: 62-08 | C24: Services bancaires | D24: Autres services extérieurs 62 | E24: Frais bancaires - compte service CA, frais / encaissement carte SUMUP | F24: =IF(C24="","",IF(COUNTIF('Postes comptables'!$I:$I,D24)=0,"Anomalie","")) | K24: 75 - AUTRES PRODUITS GESTION COURANTE | L24: Participation des adhérents | N24: =IF(C22="","",C22) | O24: =IF(C73="","",C73) -> Caisse d'Allocations familiales | Q24: {=IF(ROWS($1:22)<=SUM(IF(dep_deroule<>"",1/COUNTIF(dep_deroule,dep_deroule))),INDEX(dep_deroule,SMALL(IF(FREQUENCY(IF(dep_deroule<>"",MATCH(dep_deroule,dep_deroule,0)),ROW(INDIRECT("1:"&ROWS(dep_deroule))))>0,ROW(INDIRECT("1:"&ROWS(dep_deroule)))),ROWS($1:22))),"")} -> Frais postaux et télécommunications | R24: {=IF(ROWS($1:22)<=SUM(IF(rec_deroule<>"",1/COUNTIF(rec_deroule,rec_deroule))),INDEX(rec_deroule,SMALL(IF(FREQUENCY(IF(rec_deroule<>"",MATCH(rec_deroule,rec_deroule,0)),ROW(INDIRECT("1:"&ROWS(rec_deroule))))>0,ROW(INDIRECT("1:"&ROWS(rec_deroule)))),ROWS($1:22))),"")} -> Cotisations
B25: 62-09 | C25: Divers | D25: Autres services extérieurs 62 | E25: Autres charges externes, cotisations diverses | F25: =IF(C25="","",IF(COUNTIF('Postes comptables'!$I:$I,D25)=0,"Anomalie","")) | L25: Sponsoring, partenariats privés | N25: =IF(C23="","",C23) -> Frais postaux et télécommunications | O25: =IF(C74="","",C74) -> Caisse des Dépôts et Consignations | Q25: {=IF(ROWS($1:23)<=SUM(IF(dep_deroule<>"",1/COUNTIF(dep_deroule,dep_deroule))),INDEX(dep_deroule,SMALL(IF(FREQUENCY(IF(dep_deroule<>"",MATCH(dep_deroule,dep_deroule,0)),ROW(INDIRECT("1:"&ROWS(dep_deroule))))>0,ROW(INDIRECT("1:"&ROWS(dep_deroule)))),ROWS($1:23))),"")} -> Services bancaires | R25: {=IF(ROWS($1:23)<=SUM(IF(rec_deroule<>"",1/COUNTIF(rec_deroule,rec_deroule))),INDEX(rec_deroule,SMALL(IF(FREQUENCY(IF(rec_deroule<>"",MATCH(rec_deroule,rec_deroule,0)),ROW(INDIRECT("1:"&ROWS(rec_deroule))))>0,ROW(INDIRECT("1:"&ROWS(rec_deroule)))),ROWS($1:23))),"")} -> Dons des bienfaiteurs
A26: =H22 -> 63 - IMPOTS ET TAXES | B26: 63-01 | C26: Impôts et taxes sur rémunération | D26: Taxe sur les salaires | F26: =IF(C26="","",IF(COUNTIF('Postes comptables'!$I:$I,D26)=0,"Anomalie","")) | H26: 64 - FRAIS DE PERSONNEL | I26: Salaires bruts | K26: 76 - PRODUITS FINANCIERS | L26: Produits financiers | N26: =IF(C24="","",C24) -> Services bancaires | O26: =IF(C75="","",C75) -> Union Européenne | Q26: {=IF(ROWS($1:24)<=SUM(IF(dep_deroule<>"",1/COUNTIF(dep_deroule,dep_deroule))),INDEX(dep_deroule,SMALL(IF(FREQUENCY(IF(dep_deroule<>"",MATCH(dep_deroule,dep_deroule,0)),ROW(INDIRECT("1:"&ROWS(dep_deroule))))>0,ROW(INDIRECT("1:"&ROWS(dep_deroule)))),ROWS($1:24))),"")} -> Divers | R26: {=IF(ROWS($1:24)<=SUM(IF(rec_deroule<>"",1/COUNTIF(rec_deroule,rec_deroule))),INDEX(rec_deroule,SMALL(IF(FREQUENCY(IF(rec_deroule<>"",MATCH(rec_deroule,rec_deroule,0)),ROW(INDIRECT("1:"&ROWS(rec_deroule))))>0,ROW(INDIRECT("1:"&ROWS(rec_deroule)))),ROWS($1:24))),"")} -> Indemnités d'assurances
B27: 63-02 | C27: Impôts, taxes (administration des impôts) | D27: Autres impôts et taxes | F27: =IF(C27="","",IF(COUNTIF('Postes comptables'!$I:$I,D27)=0,"Anomalie","")) | I27: Charges sociales de l'employeur | N27: =IF(C25="","",C25) -> Divers | O27: =IF(C76="","",C76) -> Autres subventions | Q27: {=IF(ROWS($1:25)<=SUM(IF(dep_deroule<>"",1/COUNTIF(dep_deroule,dep_deroule))),INDEX(dep_deroule,SMALL(IF(FREQUENCY(IF(dep_deroule<>"",MATCH(dep_deroule,dep_deroule,0)),ROW(INDIRECT("1:"&ROWS(dep_deroule))))>0,ROW(INDIRECT("1:"&ROWS(dep_deroule)))),ROWS($1:25))),"")} -> -------63 - IMPOTS ET TAXES | R27: {=IF(ROWS($1:25)<=SUM(IF(rec_deroule<>"",1/COUNTIF(rec_deroule,rec_deroule))),INDEX(rec_deroule,SMALL(IF(FREQUENCY(IF(rec_deroule<>"",MATCH(rec_deroule,rec_deroule,0)),ROW(INDIRECT("1:"&ROWS(rec_deroule))))>0,ROW(INDIRECT("1:"&ROWS(rec_deroule)))),ROWS($1:25))),"")} -> -------76 - PRODUITS FINANCIERS
B28: 63-03 | C28: Impôts, taxes (autres organismes) | D28: Autres impôts et taxes | F28: =IF(C28="","",IF(COUNTIF('Postes comptables'!$I:$I,D28)=0,"Anomalie","")) | I28: Autres charges de personnel 64 | K28: 77 - PRODUITS EXCEPTIONNELS | L28: Produits exceptionnels | N28: ="-------"&A26 -> -------63 - IMPOTS ET TAXES | O28: =IF(C77="","",C77) | Q28: {=IF(ROWS($1:26)<=SUM(IF(dep_deroule<>"",1/COUNTIF(dep_deroule,dep_deroule))),INDEX(dep_deroule,SMALL(IF(FREQUENCY(IF(dep_deroule<>"",MATCH(dep_deroule,dep_deroule,0)),ROW(INDIRECT("1:"&ROWS(dep_deroule))))>0,ROW(INDIRECT("1:"&ROWS(dep_deroule)))),ROWS($1:26))),"")} -> Impôts et taxes sur rémunération | R28: {=IF(ROWS($1:26)<=SUM(IF(rec_deroule<>"",1/COUNTIF(rec_deroule,rec_deroule))),INDEX(rec_deroule,SMALL(IF(FREQUENCY(IF(rec_deroule<>"",MATCH(rec_deroule,rec_deroule,0)),ROW(INDIRECT("1:"&ROWS(rec_deroule))))>0,ROW(INDIRECT("1:"&ROWS(rec_deroule)))),ROWS($1:26))),"")} -> Intérêts des placements
B29: 63-04 | F29: =IF(C29="","",IF(COUNTIF('Postes comptables'!$I:$I,D29)=0,"Anomalie","")) | N29: =IF(C26="","",C26) -> Impôts et taxes sur rémunération | O29: =IF(C78="","",C78) | Q29: {=IF(ROWS($1:27)<=SUM(IF(dep_deroule<>"",1/COUNTIF(dep_deroule,dep_deroule))),INDEX(dep_deroule,SMALL(IF(FREQUENCY(IF(dep_deroule<>"",MATCH(dep_deroule,dep_deroule,0)),ROW(INDIRECT("1:"&ROWS(dep_deroule))))>0,ROW(INDIRECT("1:"&ROWS(dep_deroule)))),ROWS($1:27))),"")} -> Impôts, taxes (administration des impôts) | R29: {=IF(ROWS($1:27)<=SUM(IF(rec_deroule<>"",1/COUNTIF(rec_deroule,rec_deroule))),INDEX(rec_deroule,SMALL(IF(FREQUENCY(IF(rec_deroule<>"",MATCH(rec_deroule,rec_deroule,0)),ROW(INDIRECT("1:"&ROWS(rec_deroule))))>0,ROW(INDIRECT("1:"&ROWS(rec_deroule)))),ROWS($1:27))),"")} -> Revenus des V.M.P.
A30: =H26 -> 64 - FRAIS DE PERSONNEL | B30: 64-01 | C30: Rémunération des personnels | D30: Salaires bruts | E30: Salaires nets versés aux vacataires lors concerts | F30: =IF(C30="","",IF(COUNTIF('Postes comptables'!$I:$I,D30)=0,"Anomalie","")) | H30: 65 - AUTRES CHARGES DE GESTION COURANTE | I30: Autres charges de gestion courante | K30: 78 - REPRISES AMORT. ET PROVISIONS | L30: Reprises sur amortissements et provisions | N30: =IF(C27="","",C27) -> Impôts, taxes (administration des impôts) | O30: =IF(C79="","",C79) | Q30: {=IF(ROWS($1:28)<=SUM(IF(dep_deroule<>"",1/COUNTIF(dep_deroule,dep_deroule))),INDEX(dep_deroule,SMALL(IF(FREQUENCY(IF(dep_deroule<>"",MATCH(dep_deroule,dep_deroule,0)),ROW(INDIRECT("1:"&ROWS(dep_deroule))))>0,ROW(INDIRECT("1:"&ROWS(dep_deroule)))),ROWS($1:28))),"")} -> Impôts, taxes (autres organismes) | R30: {=IF(ROWS($1:28)<=SUM(IF(rec_deroule<>"",1/COUNTIF(rec_deroule,rec_deroule))),INDEX(rec_deroule,SMALL(IF(FREQUENCY(IF(rec_deroule<>"",MATCH(rec_deroule,rec_deroule,0)),ROW(INDIRECT("1:"&ROWS(rec_deroule))))>0,ROW(INDIRECT("1:"&ROWS(rec_deroule)))),ROWS($1:28))),"")} -> -------77 - PRODUITS EXCEPTIONNELS
B31: 64-02 | C31: Charges sociales | D31: Charges sociales de l'employeur | E31: Cotisations à l'URSSAF | F31: =IF(C31="","",IF(COUNTIF('Postes comptables'!$I:$I,D31)=0,"Anomalie","")) | N31: =IF(C28="","",C28) -> Impôts, taxes (autres organismes) | O31: =IF(C80="","",C80) | Q31: {=IF(ROWS($1:29)<=SUM(IF(dep_deroule<>"",1/COUNTIF(dep_deroule,dep_deroule))),INDEX(dep_deroule,SMALL(IF(FREQUENCY(IF(dep_deroule<>"",MATCH(dep_deroule,dep_deroule,0)),ROW(INDIRECT("1:"&ROWS(dep_deroule))))>0,ROW(INDIRECT("1:"&ROWS(dep_deroule)))),ROWS($1:29))),"")} -> -------64 - FRAIS DE PERSONNEL | R31: {=IF(ROWS($1:29)<=SUM(IF(rec_deroule<>"",1/COUNTIF(rec_deroule,rec_deroule))),INDEX(rec_deroule,SMALL(IF(FREQUENCY(IF(rec_deroule<>"",MATCH(rec_deroule,rec_deroule,0)),ROW(INDIRECT("1:"&ROWS(rec_deroule))))>0,ROW(INDIRECT("1:"&ROWS(rec_deroule)))),ROWS($1:29))),"")} -> Produits exceptionnels
B32: 64-03 | C32: Autres charges de personnel | D32: Autres charges de personnel 64 | E32: Médecine du travail | F32: =IF(C32="","",IF(COUNTIF('Postes comptables'!$I:$I,D32)=0,"Anomalie","")) | H32: 66 - CHARGES FINANCIERES | I32: Intérêts des emprunts | K32: 79 - TRANSFERTS DE CHARGES | L32: Transferts de charge | N32: =IF(C29="","",C29) | O32: ="-------"&A81 -> -------75 - AUTRES PRODUITS GESTION COURANTE | Q32: {=IF(ROWS($1:30)<=SUM(IF(dep_deroule<>"",1/COUNTIF(dep_deroule,dep_deroule))),INDEX(dep_deroule,SMALL(IF(FREQUENCY(IF(dep_deroule<>"",MATCH(dep_deroule,dep_deroule,0)),ROW(INDIRECT("1:"&ROWS(dep_deroule))))>0,ROW(INDIRECT("1:"&ROWS(dep_deroule)))),ROWS($1:30))),"")} -> Rémunération des personnels | R32: {=IF(ROWS($1:30)<=SUM(IF(rec_deroule<>"",1/COUNTIF(rec_deroule,rec_deroule))),INDEX(rec_deroule,SMALL(IF(FREQUENCY(IF(rec_deroule<>"",MATCH(rec_deroule,rec_deroule,0)),ROW(INDIRECT("1:"&ROWS(rec_deroule))))>0,ROW(INDIRECT("1:"&ROWS(rec_deroule)))),ROWS($1:30))),"")} -> -------78 - REPRISES AMORT. ET PROVISIONS
B33: 64-04 | F33: =IF(C33="","",IF(COUNTIF('Postes comptables'!$I:$I,D33)=0,"Anomalie","")) | I33: Autres charges financières | N33: ="-------"&A30 -> -------64 - FRAIS DE PERSONNEL | O33: =IF(C81="","",C81) -> Cotisations | Q33: {=IF(ROWS($1:31)<=SUM(IF(dep_deroule<>"",1/COUNTIF(dep_deroule,dep_deroule))),INDEX(dep_deroule,SMALL(IF(FREQUENCY(IF(dep_deroule<>"",MATCH(dep_deroule,dep_deroule,0)),ROW(INDIRECT("1:"&ROWS(dep_deroule))))>0,ROW(INDIRECT("1:"&ROWS(dep_deroule)))),ROWS($1:31))),"")} -> Charges sociales | R33: {=IF(ROWS($1:31)<=SUM(IF(rec_deroule<>"",1/COUNTIF(rec_deroule,rec_deroule))),INDEX(rec_deroule,SMALL(IF(FREQUENCY(IF(rec_deroule<>"",MATCH(rec_deroule,rec_deroule,0)),ROW(INDIRECT("1:"&ROWS(rec_deroule))))>0,ROW(INDIRECT("1:"&ROWS(rec_deroule)))),ROWS($1:31))),"")} -> Reprises sur amortissements et provisions
A34: =H30 -> 65 - AUTRES CHARGES DE GESTION COURANTE | B34: 65-01 | C34: Redevances | D34: Autres charges de gestion courante | E34: Droits SACEM, SPRE si diffusion musique en public | F34: =IF(C34="","",IF(COUNTIF('Postes comptables'!$I:$I,D34)=0,"Anomalie","")) | K34: LES CONTRIBUTIONS VOLONTAIRES EN NATURE | N34: =IF(C30="","",C30) -> Rémunération des personnels | O34: =IF(C82="","",C82) -> Dons des bienfaiteurs | Q34: {=IF(ROWS($1:32)<=SUM(IF(dep_deroule<>"",1/COUNTIF(dep_deroule,dep_deroule))),INDEX(dep_deroule,SMALL(IF(FREQUENCY(IF(dep_deroule<>"",MATCH(dep_deroule,dep_deroule,0)),ROW(INDIRECT("1:"&ROWS(dep_deroule))))>0,ROW(INDIRECT("1:"&ROWS(dep_deroule)))),ROWS($1:32))),"")} -> Autres charges de personnel | R34: {=IF(ROWS($1:32)<=SUM(IF(rec_deroule<>"",1/COUNTIF(rec_deroule,rec_deroule))),INDEX(rec_deroule,SMALL(IF(FREQUENCY(IF(rec_deroule<>"",MATCH(rec_deroule,rec_deroule,0)),ROW(INDIRECT("1:"&ROWS(rec_deroule))))>0,ROW(INDIRECT("1:"&ROWS(rec_deroule)))),ROWS($1:32))),"")} -> Couverture déficit prévsionnel/fonds propres
B35: 65-02 | C35: Autres charges de gestion courante | D35: Autres charges de gestion courante | E35: Autres charges | F35: =IF(C35="","",IF(COUNTIF('Postes comptables'!$I:$I,D35)=0,"Anomalie","")) | H35: 67 - CHARGES EXCEPTIONNELLES | I35: Charges exceptionnelles | K35: 87 - CONTRIB. VOLONT. EN NATURE | L35: Bénévolat | N35: =IF(C31="","",C31) -> Charges sociales | O35: =IF(C83="","",C83) -> Indemnités d'assurances | Q35: {=IF(ROWS($1:33)<=SUM(IF(dep_deroule<>"",1/COUNTIF(dep_deroule,dep_deroule))),INDEX(dep_deroule,SMALL(IF(FREQUENCY(IF(dep_deroule<>"",MATCH(dep_deroule,dep_deroule,0)),ROW(INDIRECT("1:"&ROWS(dep_deroule))))>0,ROW(INDIRECT("1:"&ROWS(dep_deroule)))),ROWS($1:33))),"")} -> -------65 - AUTRES CHARGES DE GESTION COURANTE | R35: {=IF(ROWS($1:33)<=SUM(IF(rec_deroule<>"",1/COUNTIF(rec_deroule,rec_deroule))),INDEX(rec_deroule,SMALL(IF(FREQUENCY(IF(rec_deroule<>"",MATCH(rec_deroule,rec_deroule,0)),ROW(INDIRECT("1:"&ROWS(rec_deroule))))>0,ROW(INDIRECT("1:"&ROWS(rec_deroule)))),ROWS($1:33))),"")} -> -------79 - TRANSFERTS DE CHARGES
B36: 65-03 | F36: =IF(C36="","",IF(COUNTIF('Postes comptables'!$I:$I,D36)=0,"Anomalie","")) | L36: Prestations en nature | N36: =IF(C32="","",C32) -> Autres charges de personnel | O36: ="-------"&A84 -> -------76 - PRODUITS FINANCIERS | Q36: {=IF(ROWS($1:34)<=SUM(IF(dep_deroule<>"",1/COUNTIF(dep_deroule,dep_deroule))),INDEX(dep_deroule,SMALL(IF(FREQUENCY(IF(dep_deroule<>"",MATCH(dep_deroule,dep_deroule,0)),ROW(INDIRECT("1:"&ROWS(dep_deroule))))>0,ROW(INDIRECT("1:"&ROWS(dep_deroule)))),ROWS($1:34))),"")} -> Redevances | R36: {=IF(ROWS($1:34)<=SUM(IF(rec_deroule<>"",1/COUNTIF(rec_deroule,rec_deroule))),INDEX(rec_deroule,SMALL(IF(FREQUENCY(IF(rec_deroule<>"",MATCH(rec_deroule,rec_deroule,0)),ROW(INDIRECT("1:"&ROWS(rec_deroule))))>0,ROW(INDIRECT("1:"&ROWS(rec_deroule)))),ROWS($1:34))),"")} -> Transfert de charges (supprimé)
A37: =H32 -> 66 - CHARGES FINANCIERES | B37: 66-01 | C37: Charges financières | D37: Intérêts des emprunts | E37: Intérêts payés sur emprunts, sur découverts | F37: =IF(C37="","",IF(COUNTIF('Postes comptables'!$I:$I,D37)=0,"Anomalie","")) | H37: 68 - DOTATIONS | I37: Dotation aux amortissements | L37: Dons en nature | N37: =IF(C33="","",C33) | O37: =IF(C84="","",C84) -> Intérêts des placements | Q37: {=IF(ROWS($1:35)<=SUM(IF(dep_deroule<>"",1/COUNTIF(dep_deroule,dep_deroule))),INDEX(dep_deroule,SMALL(IF(FREQUENCY(IF(dep_deroule<>"",MATCH(dep_deroule,dep_deroule,0)),ROW(INDIRECT("1:"&ROWS(dep_deroule))))>0,ROW(INDIRECT("1:"&ROWS(dep_deroule)))),ROWS($1:35))),"")} -> Autres charges de gestion courante | R37: {=IF(ROWS($1:35)<=SUM(IF(rec_deroule<>"",1/COUNTIF(rec_deroule,rec_deroule))),INDEX(rec_deroule,SMALL(IF(FREQUENCY(IF(rec_deroule<>"",MATCH(rec_deroule,rec_deroule,0)),ROW(INDIRECT("1:"&ROWS(rec_deroule))))>0,ROW(INDIRECT("1:"&ROWS(rec_deroule)))),ROWS($1:35))),"")} -> -------87 - CONTRIB. VOLONT. EN NATURE
B38: 66-02 | F38: =IF(C38="","",IF(COUNTIF('Postes comptables'!$I:$I,D38)=0,"Anomalie","")) | I38: Dotation aux provisions | N38: ="-------"&A34 -> -------65 - AUTRES CHARGES DE GESTION COURANTE | O38: =IF(C85="","",C85) -> Revenus des V.M.P. | Q38: {=IF(ROWS($1:36)<=SUM(IF(dep_deroule<>"",1/COUNTIF(dep_deroule,dep_deroule))),INDEX(dep_deroule,SMALL(IF(FREQUENCY(IF(dep_deroule<>"",MATCH(dep_deroule,dep_deroule,0)),ROW(INDIRECT("1:"&ROWS(dep_deroule))))>0,ROW(INDIRECT("1:"&ROWS(dep_deroule)))),ROWS($1:36))),"")} -> -------66 - CHARGES FINANCIERES | R38: {=IF(ROWS($1:36)<=SUM(IF(rec_deroule<>"",1/COUNTIF(rec_deroule,rec_deroule))),INDEX(rec_deroule,SMALL(IF(FREQUENCY(IF(rec_deroule<>"",MATCH(rec_deroule,rec_deroule,0)),ROW(INDIRECT("1:"&ROWS(rec_deroule))))>0,ROW(INDIRECT("1:"&ROWS(rec_deroule)))),ROWS($1:36))),"")} -> Bénévolat
A39: =H35 -> 67 - CHARGES EXCEPTIONNELLES | B39: 67-01 | C39: Charges exceptionnelles | D39: Charges exceptionnelles | E39: Charges non récurrentes | F39: =IF(C39="","",IF(COUNTIF('Postes comptables'!$I:$I,D39)=0,"Anomalie","")) | N39: =IF(C34="","",C34) -> Redevances | O39: ="-------"&A86 -> -------77 - PRODUITS EXCEPTIONNELS | Q39: {=IF(ROWS($1:37)<=SUM(IF(dep_deroule<>"",1/COUNTIF(dep_deroule,dep_deroule))),INDEX(dep_deroule,SMALL(IF(FREQUENCY(IF(dep_deroule<>"",MATCH(dep_deroule,dep_deroule,0)),ROW(INDIRECT("1:"&ROWS(dep_deroule))))>0,ROW(INDIRECT("1:"&ROWS(dep_deroule)))),ROWS($1:37))),"")} -> Charges financières | R39: {=IF(ROWS($1:37)<=SUM(IF(rec_deroule<>"",1/COUNTIF(rec_deroule,rec_deroule))),INDEX(rec_deroule,SMALL(IF(FREQUENCY(IF(rec_deroule<>"",MATCH(rec_deroule,rec_deroule,0)),ROW(INDIRECT("1:"&ROWS(rec_deroule))))>0,ROW(INDIRECT("1:"&ROWS(rec_deroule)))),ROWS($1:37))),"")} -> Prestations en nature
B40: 67-02 | F40: =IF(C40="","",IF(COUNTIF('Postes comptables'!$I:$I,D40)=0,"Anomalie","")) | H40: 69 - IMPOT SUR LES BENEFICES | I40: Impôt sur les bénéfices | N40: =IF(C35="","",C35) -> Autres charges de gestion courante | O40: =IF(C86="","",C86) -> Produits exceptionnels | Q40: {=IF(ROWS($1:38)<=SUM(IF(dep_deroule<>"",1/COUNTIF(dep_deroule,dep_deroule))),INDEX(dep_deroule,SMALL(IF(FREQUENCY(IF(dep_deroule<>"",MATCH(dep_deroule,dep_deroule,0)),ROW(INDIRECT("1:"&ROWS(dep_deroule))))>0,ROW(INDIRECT("1:"&ROWS(dep_deroule)))),ROWS($1:38))),"")} -> -------67 - CHARGES EXCEPTIONNELLES | R40: {=IF(ROWS($1:38)<=SUM(IF(rec_deroule<>"",1/COUNTIF(rec_deroule,rec_deroule))),INDEX(rec_deroule,SMALL(IF(FREQUENCY(IF(rec_deroule<>"",MATCH(rec_deroule,rec_deroule,0)),ROW(INDIRECT("1:"&ROWS(rec_deroule))))>0,ROW(INDIRECT("1:"&ROWS(rec_deroule)))),ROWS($1:38))),"")} -> Dons en nature
...

Sheet Dépenses
A1: DATE | B1: TIERS | C1: LIBELLE DE LA DEPENSE | D1: NUMERO FACTURE | E1: MONTANT PAYE | F1: POSTE COMPTABLE | G1: POSTE ANALYTIQUE | H1: MODE DE REGLEMENT | I1: NUMERO PIECE | J1: Sur relevé bancaire | K1: =Accueil!G6&" "&Accueil!H6&" "&Accueil!K6 -> C.AGRICOLE COMPTE COURANT Trésorerie | L1: =Accueil!G8&" "&Accueil!H8&" "&Accueil!K8 -> C.AGRICOLE LIVRET A Trésorerie | M1: =Accueil!G10&" "&Accueil!H10&" "&Accueil!K10 -> CAISSE Trésorerie | N1: =Accueil!G12&" "&Accueil!H12&" "&Accueil!K12 | O1: =Accueil!G14&" "& Accueil!H14&" "&Accueil!K14 -> SUMUP CARTE BANCAIRE Trésorerie | P1: =Accueil!G16&" "& Accueil!H16&" "&Accueil!K16 -> A PAYER Passif | Q1: =Accueil!G18&" "& Accueil!H18&" "&Accueil!K18 -> A RECEVOIR Actif | R1: =Accueil!G20&" "& Accueil!H20&" "&Accueil!K20 -> A REVERSER Trésorerie | S1: =Accueil!G22&" "& Accueil!H22&" "&Accueil!K22 | T1: =Accueil!G24&" "& Accueil!H24&" "&Accueil!K24 | AB1: =Accueil!$Q$6 -> Trésorerie | AC1: =Accueil!$Q$8 -> Trésorerie | AD1: =Accueil!$Q$10 -> Trésorerie | AE1: =Accueil!$Q$12 -> Trésorerie | AF1: =Accueil!$Q$14 -> Trésorerie | AG1: =Accueil!$Q$16 -> Passif | AH1: =Accueil!$Q$18 -> Actif | AI1: =Accueil!$Q$20 -> Trésorerie | AJ1: =Accueil!$Q$22 -> Trésorerie | AK1: =Accueil!$Q$24 -> Trésorerie
A2: 45666 | B2: CREDIT AGRICOLE | C2: Compte service 12 | D2: AC003 | E2: 1.18 | F2: Services bancaires | G2: Fonctionnement | H2: PSEPA | J2: X | K2: X | U2: =IF(ISBLANK(F2),0,1) -> 1 | V2: =IF(F2="","",IF(COUNTIF('Postes comptables'!$A:$C,F2)=0,"Anomalie","")) | W2: =MONTH(A2) -> 1 | X2: =IF(F2="","",MATCH(F2,'Postes comptables'!$C$3:$C$45,0)) -> 22 | Y2: {=IF(X2="","",INDEX('Postes comptables'!$B$3:$B$45,X2,0))} -> 62-08 | Z2: =IF(G2="","",IF(COUNTIF('Postes comptables'!$C$99:$C$148,G2)=0,"Anomalie","")) | AA2: =IF(AND(F2="",A2<>"",COUNTIF(AB2:AK2,"D")=0),TRUE,FALSE) -> FALSE | AB2: =IF(AND(K2="X",AB$1<>"Trésorerie"),"D","") | AC2: =IF(AND(L2="X",AC$1<>"Trésorerie"),"D","") | AD2: =IF(AND(M2="X",AD$1<>"Trésorerie"),"D","") | AE2: =IF(AND(N2="X",AE$1<>"Trésorerie"),"D","") | AF2: =IF(AND(O2="X",AF$1<>"Trésorerie"),"D","") | AG2: =IF(AND(P2="X",AG$1<>"Trésorerie"),"D","") | AH2: =IF(AND(Q2="X",AH$1<>"Trésorerie"),"D","") | AI2: =IF(AND(R2="X",AI$1<>"Trésorerie"),"D","") | ... AK2: =IF(AND(T2="X",AK$1<>"Trésorerie"),"D","")
A3: 45666 | B3: E.LECLERC | C3: Réunion Bureau+CA | D3: AC001 | E3: 31.55 | F3: Frais réception bureau/ca/forums | G3: Fonctionnement | H3: VSEPA | J3: X | K3: X | U3: =IF(ISBLANK(F3),0,1) -> 1 | V3: =IF(F3="","",IF(COUNTIF('Postes comptables'!$A:$C,F3)=0,"Anomalie","")) | W3: =MONTH(A3) -> 1 | X3: =IF(F3="","",MATCH(F3,'Postes comptables'!$C$3:$C$45,0)) -> 17 | Y3: {=IF(X3="","",INDEX('Postes comptables'!$B$3:$B$45,X3,0))} -> 62-03 | Z3: =IF(G3="","",IF(COUNTIF('Postes comptables'!$C$99:$C$148,G3)=0,"Anomalie","")) | AA3: =IF(AND(F3="",A3<>"",COUNTIF(AB3:AK3,"D")=0),TRUE,FALSE) -> FALSE | AB3: =IF(AND(K3="X",AB$1<>"Trésorerie"),"D","") | AC3: =IF(AND(L3="X",AC$1<>"Trésorerie"),"D","") | AD3: =IF(AND(M3="X",AD$1<>"Trésorerie"),"D","") | AE3: =IF(AND(N3="X",AE$1<>"Trésorerie"),"D","") | AF3: =IF(AND(O3="X",AF$1<>"Trésorerie"),"D","") | AG3: =IF(AND(P3="X",AG$1<>"Trésorerie"),"D","") | AH3: =IF(AND(Q3="X",AH$1<>"Trésorerie"),"D","") | AI3: =IF(AND(R3="X",AI$1<>"Trésorerie"),"D","") | ... AK3: =IF(AND(T3="X",AK$1<>"Trésorerie"),"D","")
A4: 45667 | B4: AXA | C4: Rembt Réparation Baryton | D4: AC005 | E4: -150 | F4: Entretien et réparations | G4: Fonctionnement | H4: REMISE | I4: 6453991 | J4: X | K4: X | U4: =IF(ISBLANK(F4),0,1) -> 1 | V4: =IF(F4="","",IF(COUNTIF('Postes comptables'!$A:$C,F4)=0,"Anomalie","")) | W4: =MONTH(A4) -> 1 | X4: =IF(F4="","",MATCH(F4,'Postes comptables'!$C$3:$C$45,0)) -> 9 | Y4: {=IF(X4="","",INDEX('Postes comptables'!$B$3:$B$45,X4,0))} -> 61-02 | Z4: =IF(G4="","",IF(COUNTIF('Postes comptables'!$C$99:$C$148,G4)=0,"Anomalie","")) | AA4: =IF(AND(F4="",A4<>"",COUNTIF(AB4:AK4,"D")=0),TRUE,FALSE) -> FALSE | AB4: =IF(AND(K4="X",AB$1<>"Trésorerie"),"D","") | AC4: =IF(AND(L4="X",AC$1<>"Trésorerie"),"D","") | AD4: =IF(AND(M4="X",AD$1<>"Trésorerie"),"D","") | AE4: =IF(AND(N4="X",AE$1<>"Trésorerie"),"D","") | AF4: =IF(AND(O4="X",AF$1<>"Trésorerie"),"D","") | AG4: =IF(AND(P4="X",AG$1<>"Trésorerie"),"D","") | AH4: =IF(AND(Q4="X",AH$1<>"Trésorerie"),"D","") | AI4: =IF(AND(R4="X",AI$1<>"Trésorerie"),"D","") | ... AK4: =IF(AND(T4="X",AK$1<>"Trésorerie"),"D","")
A5: 45667 | B5: AXA | C5: Assurance 2025 | D5: AC002 | E5: 227.7 | F5: Primes d'assurance | G5: Fonctionnement | H5: CHEQUE | I5: 5481199 | J5: X | K5: X | U5: =IF(ISBLANK(F5),0,1) -> 1 | V5: =IF(F5="","",IF(COUNTIF('Postes comptables'!$A:$C,F5)=0,"Anomalie","")) | W5: =MONTH(A5) -> 1 | X5: =IF(F5="","",MATCH(F5,'Postes comptables'!$C$3:$C$45,0)) -> 10 | Y5: {=IF(X5="","",INDEX('Postes comptables'!$B$3:$B$45,X5,0))} -> 61-03 | Z5: =IF(G5="","",IF(COUNTIF('Postes comptables'!$C$99:$C$148,G5)=0,"Anomalie","")) | AA5: =IF(AND(F5="",A5<>"",COUNTIF(AB5:AK5,"D")=0),TRUE,FALSE) -> FALSE | AB5: =IF(AND(K5="X",AB$1<>"Trésorerie"),"D","") | AC5: =IF(AND(L5="X",AC$1<>"Trésorerie"),"D","") | AD5: =IF(AND(M5="X",AD$1<>"Trésorerie"),"D","") | AE5: =IF(AND(N5="X",AE$1<>"Trésorerie"),"D","") | AF5: =IF(AND(O5="X",AF$1<>"Trésorerie"),"D","") | AG5: =IF(AND(P5="X",AG$1<>"Trésorerie"),"D","") | AH5: =IF(AND(Q5="X",AH$1<>"Trésorerie"),"D","") | AI5: =IF(AND(R5="X",AI$1<>"Trésorerie"),"D","") | ... AK5: =IF(AND(T5="X",AK$1<>"Trésorerie"),"D","")
A6: 45667 | B6: MOLENAAR | C6: Partition Godfather Saga | D6: AC011 | E6: 206.39 | F6: Achat de partitions | G6: Partitions/Matériel musical | H6: CB | O6: X | U6: =IF(ISBLANK(F6),0,1) -> 1 | V6: =IF(F6="","",IF(COUNTIF('Postes comptables'!$A:$C,F6)=0,"Anomalie","")) | W6: =MONTH(A6) -> 1 | X6: =IF(F6="","",MATCH(F6,'Postes comptables'!$C$3:$C$45,0)) -> 2 | Y6: {=IF(X6="","",INDEX('Postes comptables'!$B$3:$B$45,X6,0))} -> 60-02 | Z6: =IF(G6="","",IF(COUNTIF('Postes comptables'!$C$99:$C$148,G6)=0,"Anomalie","")) | AA6: =IF(AND(F6="",A6<>"",COUNTIF(AB6:AK6,"D")=0),TRUE,FALSE) -> FALSE | AB6: =IF(AND(K6="X",AB$1<>"Trésorerie"),"D","") | AC6: =IF(AND(L6="X",AC$1<>"Trésorerie"),"D","") | AD6: =IF(AND(M6="X",AD$1<>"Trésorerie"),"D","") | AE6: =IF(AND(N6="X",AE$1<>"Trésorerie"),"D","") | AF6: =IF(AND(O6="X",AF$1<>"Trésorerie"),"D","") | AG6: =IF(AND(P6="X",AG$1<>"Trésorerie"),"D","") | AH6: =IF(AND(Q6="X",AH$1<>"Trésorerie"),"D","") | AI6: =IF(AND(R6="X",AI$1<>"Trésorerie"),"D","") | ... AK6: =IF(AND(T6="X",AK$1<>"Trésorerie"),"D","")
A7: 45667 | B7: NG MUSIQUE | C7: Réparation Baryton | D7: AC004 | E7: 150 | F7: Entretien et réparations | G7: Fonctionnement | H7: VSEPA | J7: X | K7: X | U7: =IF(ISBLANK(F7),0,1) -> 1 | V7: =IF(F7="","",IF(COUNTIF('Postes comptables'!$A:$C,F7)=0,"Anomalie","")) | W7: =MONTH(A7) -> 1 | X7: =IF(F7="","",MATCH(F7,'Postes comptables'!$C$3:$C$45,0)) -> 9 | Y7: {=IF(X7="","",INDEX('Postes comptables'!$B$3:$B$45,X7,0))} -> 61-02 | Z7: =IF(G7="","",IF(COUNTIF('Postes comptables'!$C$99:$C$148,G7)=0,"Anomalie","")) | AA7: =IF(AND(F7="",A7<>"",COUNTIF(AB7:AK7,"D")=0),TRUE,FALSE) -> FALSE | AB7: =IF(AND(K7="X",AB$1<>"Trésorerie"),"D","") | AC7: =IF(AND(L7="X",AC$1<>"Trésorerie"),"D","") | AD7: =IF(AND(M7="X",AD$1<>"Trésorerie"),"D","") | AE7: =IF(AND(N7="X",AE$1<>"Trésorerie"),"D","") | AF7: =IF(AND(O7="X",AF$1<>"Trésorerie"),"D","") | AG7: =IF(AND(P7="X",AG$1<>"Trésorerie"),"D","") | AH7: =IF(AND(Q7="X",AH$1<>"Trésorerie"),"D","") | AI7: =IF(AND(R7="X",AI$1<>"Trésorerie"),"D","") | ... AK7: =IF(AND(T7="X",AK$1<>"Trésorerie"),"D","")
A8: 45671 | B8: BUREAU VALLEE | C8: Fournitures pour partitions | D8: AC006 | E8: 17.67 | F8: Fournitures de bureau, de reprographie | G8: Partitions/Matériel musical | H8: VSEPA | J8: X | K8: X | U8: =IF(ISBLANK(F8),0,1) -> 1 | V8: =IF(F8="","",IF(COUNTIF('Postes comptables'!$A:$C,F8)=0,"Anomalie","")) | W8: =MONTH(A8) -> 1 | X8: =IF(F8="","",MATCH(F8,'Postes comptables'!$C$3:$C$45,0)) -> 6 | Y8: {=IF(X8="","",INDEX('Postes comptables'!$B$3:$B$45,X8,0))} -> 60-06 | Z8: =IF(G8="","",IF(COUNTIF('Postes comptables'!$C$99:$C$148,G8)=0,"Anomalie","")) | AA8: =IF(AND(F8="",A8<>"",COUNTIF(AB8:AK8,"D")=0),TRUE,FALSE) -> FALSE | AB8: =IF(AND(K8="X",AB$1<>"Trésorerie"),"D","") | AC8: =IF(AND(L8="X",AC$1<>"Trésorerie"),"D","") | AD8: =IF(AND(M8="X",AD$1<>"Trésorerie"),"D","") | AE8: =IF(AND(N8="X",AE$1<>"Trésorerie"),"D","") | AF8: =IF(AND(O8="X",AF$1<>"Trésorerie"),"D","") | AG8: =IF(AND(P8="X",AG$1<>"Trésorerie"),"D","") | AH8: =IF(AND(Q8="X",AH$1<>"Trésorerie"),"D","") | AI8: =IF(AND(R8="X",AI$1<>"Trésorerie"),"D","") | ... AK8: =IF(AND(T8="X",AK$1<>"Trésorerie"),"D","")
A9: 45671 | B9: LIVRET A | C9: VIREMENT INTERNE | D9: X | E9: 1483.38 | H9: VSEPA | J9: X | K9: X | U9: =IF(ISBLANK(F9),0,1) -> 0 | V9: =IF(F9="","",IF(COUNTIF('Postes comptables'!$A:$C,F9)=0,"Anomalie","")) | W9: =MONTH(A9) -> 1 | X9: =IF(F9="","",MATCH(F9,'Postes comptables'!$C$3:$C$45,0)) | Y9: {=IF(X9="","",INDEX('Postes comptables'!$B$3:$B$45,X9,0))} | Z9: =IF(G9="","",IF(COUNTIF('Postes comptables'!$C$99:$C$148,G9)=0,"Anomalie","")) | AA9: =IF(AND(F9="",A9<>"",COUNTIF(AB9:AK9,"D")=0),TRUE,FALSE) -> TRUE | AB9: =IF(AND(K9="X",AB$1<>"Trésorerie"),"D","") | AC9: =IF(AND(L9="X",AC$1<>"Trésorerie"),"D","") | AD9: =IF(AND(M9="X",AD$1<>"Trésorerie"),"D","") | AE9: =IF(AND(N9="X",AE$1<>"Trésorerie"),"D","") | AF9: =IF(AND(O9="X",AF$1<>"Trésorerie"),"D","") | AG9: =IF(AND(P9="X",AG$1<>"Trésorerie"),"D","") | AH9: =IF(AND(Q9="X",AH$1<>"Trésorerie"),"D","") | AI9: =IF(AND(R9="X",AI$1<>"Trésorerie"),"D","") | ... AK9: =IF(AND(T9="X",AK$1<>"Trésorerie"),"D","")
A10: 45672 | B10: FREE | C10: Mobile 01 | D10: AC008 | E10: 2 | F10: Frais postaux et télécommunications | G10: Fonctionnement | H10: PSEPA | J10: X | K10: X | U10: =IF(ISBLANK(F10),0,1) -> 1 | V10: =IF(F10="","",IF(COUNTIF('Postes comptables'!$A:$C,F10)=0,"Anomalie","")) | W10: =MONTH(A10) -> 1 | X10: =IF(F10="","",MATCH(F10,'Postes comptables'!$C$3:$C$45,0)) -> 21 | Y10: {=IF(X10="","",INDEX('Postes comptables'!$B$3:$B$45,X10,0))} -> 62-07 | Z10: =IF(G10="","",IF(COUNTIF('Postes comptables'!$C$99:$C$148,G10)=0,"Anomalie","")) | AA10: =IF(AND(F10="",A10<>"",COUNTIF(AB10:AK10,"D")=0),TRUE,FALSE) -> FALSE | AB10: =IF(AND(K10="X",AB$1<>"Trésorerie"),"D","") | AC10: =IF(AND(L10="X",AC$1<>"Trésorerie"),"D","") | AD10: =IF(AND(M10="X",AD$1<>"Trésorerie"),"D","") | AE10: =IF(AND(N10="X",AE$1<>"Trésorerie"),"D","") | AF10: =IF(AND(O10="X",AF$1<>"Trésorerie"),"D","") | AG10: =IF(AND(P10="X",AG$1<>"Trésorerie"),"D","") | AH10: =IF(AND(Q10="X",AH$1<>"Trésorerie"),"D","") | AI10: =IF(AND(R10="X",AI$1<>"Trésorerie"),"D","") | ... AK10: =IF(AND(T10="X",AK$1<>"Trésorerie"),"D","")
A11: 45672 | B11: URSSAF | C11: Cotisations 12 | D11: X | E11: 104 | H11: PSEPA | J11: X | K11: X | P11: X | U11: =IF(ISBLANK(F11),0,1) -> 0 | V11: =IF(F11="","",IF(COUNTIF('Postes comptables'!$A:$C,F11)=0,"Anomalie","")) | W11: =MONTH(A11) -> 1 | X11: =IF(F11="","",MATCH(F11,'Postes comptables'!$C$3:$C$45,0)) | Y11: {=IF(X11="","",INDEX('Postes comptables'!$B$3:$B$45,X11,0))} | Z11: =IF(G11="","",IF(COUNTIF('Postes comptables'!$C$99:$C$148,G11)=0,"Anomalie","")) | AA11: =IF(AND(F11="",A11<>"",COUNTIF(AB11:AK11,"D")=0),TRUE,FALSE) -> FALSE | AB11: =IF(AND(K11="X",AB$1<>"Trésorerie"),"D","") | AC11: =IF(AND(L11="X",AC$1<>"Trésorerie"),"D","") | AD11: =IF(AND(M11="X",AD$1<>"Trésorerie"),"D","") | AE11: =IF(AND(N11="X",AE$1<>"Trésorerie"),"D","") | AF11: =IF(AND(O11="X",AF$1<>"Trésorerie"),"D","") | AG11: =IF(AND(P11="X",AG$1<>"Trésorerie"),"D","") -> D | AH11: =IF(AND(Q11="X",AH$1<>"Trésorerie"),"D","") | AI11: =IF(AND(R11="X",AI$1<>"Trésorerie"),"D","") | ... AK11: =IF(AND(T11="X",AK$1<>"Trésorerie"),"D","")
A12: 45677 | B12: E.LECLERC | C12: Galettes AG | D12: AC010 | E12: 49.99 | F12: Frais réception bureau/ca/forums | G12: Fonctionnement | H12: VSEPA | J12: X | K12: X | U12: =IF(ISBLANK(F12),0,1) -> 1 | V12: =IF(F12="","",IF(COUNTIF('Postes comptables'!$A:$C,F12)=0,"Anomalie","")) | W12: =MONTH(A12) -> 1 | X12: =IF(F12="","",MATCH(F12,'Postes comptables'!$C$3:$C$45,0)) -> 17 | Y12: {=IF(X12="","",INDEX('Postes comptables'!$B$3:$B$45,X12,0))} -> 62-03 | Z12: =IF(G12="","",IF(COUNTIF('Postes comptables'!$C$99:$C$148,G12)=0,"Anomalie","")) | AA12: =IF(AND(F12="",A12<>"",COUNTIF(AB12:AK12,"D")=0),TRUE,FALSE) -> FALSE | AB12: =IF(AND(K12="X",AB$1<>"Trésorerie"),"D","") | AC12: =IF(AND(L12="X",AC$1<>"Trésorerie"),"D","") | AD12: =IF(AND(M12="X",AD$1<>"Trésorerie"),"D","") | AE12: =IF(AND(N12="X",AE$1<>"Trésorerie"),"D","") | AF12: =IF(AND(O12="X",AF$1<>"Trésorerie"),"D","") | AG12: =IF(AND(P12="X",AG$1<>"Trésorerie"),"D","") | AH12: =IF(AND(Q12="X",AH$1<>"Trésorerie"),"D","") | AI12: =IF(AND(R12="X",AI$1<>"Trésorerie"),"D","") | ... AK12: =IF(AND(T12="X",AK$1<>"Trésorerie"),"D","")
A13: 45677 | B13: FLORA DEBOUT | C13: Champagne 12 blles | D13: AC007 | E13: 222 | F13: Frais réception bureau/ca/forums | G13: Fonctionnement | H13: VSEPA | J13: X | K13: X | U13: =IF(ISBLANK(F13),0,1) -> 1 | V13: =IF(F13="","",IF(COUNTIF('Postes comptables'!$A:$C,F13)=0,"Anomalie","")) | W13: =MONTH(A13) -> 1 | X13: =IF(F13="","",MATCH(F13,'Postes comptables'!$C$3:$C$45,0)) -> 17 | Y13: {=IF(X13="","",INDEX('Postes comptables'!$B$3:$B$45,X13,0))} -> 62-03 | Z13: =IF(G13="","",IF(COUNTIF('Postes comptables'!$C$99:$C$148,G13)=0,"Anomalie","")) | AA13: =IF(AND(F13="",A13<>"",COUNTIF(AB13:AK13,"D")=0),TRUE,FALSE) -> FALSE | AB13: =IF(AND(K13="X",AB$1<>"Trésorerie"),"D","") | AC13: =IF(AND(L13="X",AC$1<>"Trésorerie"),"D","") | AD13: =IF(AND(M13="X",AD$1<>"Trésorerie"),"D","") | AE13: =IF(AND(N13="X",AE$1<>"Trésorerie"),"D","") | AF13: =IF(AND(O13="X",AF$1<>"Trésorerie"),"D","") | AG13: =IF(AND(P13="X",AG$1<>"Trésorerie"),"D","") | AH13: =IF(AND(Q13="X",AH$1<>"Trésorerie"),"D","") | AI13: =IF(AND(R13="X",AI$1<>"Trésorerie"),"D","") | ... AK13: =IF(AND(T13="X",AK$1<>"Trésorerie"),"D","")
A14: 45677 | B14: MICROSOFT | C14: Licences Microsoft 365 | D14: AC009 | E14: 80.2 | F14: Achat licences Office 365 | G14: Fonctionnement | J14: X | K14: X | U14: =IF(ISBLANK(F14),0,1) -> 1 | V14: =IF(F14="","",IF(COUNTIF('Postes comptables'!$A:$C,F14)=0,"Anomalie","")) | W14: =MONTH(A14) -> 1 | X14: =IF(F14="","",MATCH(F14,'Postes comptables'!$C$3:$C$45,0)) -> 7 | Y14: {=IF(X14="","",INDEX('Postes comptables'!$B$3:$B$45,X14,0))} -> 60-07 | Z14: =IF(G14="","",IF(COUNTIF('Postes comptables'!$C$99:$C$148,G14)=0,"Anomalie","")) | AA14: =IF(AND(F14="",A14<>"",COUNTIF(AB14:AK14,"D")=0),TRUE,FALSE) -> FALSE | AB14: =IF(AND(K14="X",AB$1<>"Trésorerie"),"D","") | AC14: =IF(AND(L14="X",AC$1<>"Trésorerie"),"D","") | AD14: =IF(AND(M14="X",AD$1<>"Trésorerie"),"D","") | AE14: =IF(AND(N14="X",AE$1<>"Trésorerie"),"D","") | AF14: =IF(AND(O14="X",AF$1<>"Trésorerie"),"D","") | AG14: =IF(AND(P14="X",AG$1<>"Trésorerie"),"D","") | AH14: =IF(AND(Q14="X",AH$1<>"Trésorerie"),"D","") | AI14: =IF(AND(R14="X",AI$1<>"Trésorerie"),"D","") | ... AK14: =IF(AND(T14="X",AK$1<>"Trésorerie"),"D","")
A15: 45677 | B15: URSSAF | C15: Complément Cotisations 12 | D15: X | E15: 2 | F15: Charges sociales | G15: Fonctionnement | H15: PSEPA | J15: X | K15: X | U15: =IF(ISBLANK(F15),0,1) -> 1 | V15: =IF(F15="","",IF(COUNTIF('Postes comptables'!$A:$C,F15)=0,"Anomalie","")) | W15: =MONTH(A15) -> 1 | X15: =IF(F15="","",MATCH(F15,'Postes comptables'!$C$3:$C$45,0)) -> 29 | Y15: {=IF(X15="","",INDEX('Postes comptables'!$B$3:$B$45,X15,0))} -> 64-02 | Z15: =IF(G15="","",IF(COUNTIF('Postes comptables'!$C$99:$C$148,G15)=0,"Anomalie","")) | AA15: =IF(AND(F15="",A15<>"",COUNTIF(AB15:AK15,"D")=0),TRUE,FALSE) -> FALSE | AB15: =IF(AND(K15="X",AB$1<>"Trésorerie"),"D","") | AC15: =IF(AND(L15="X",AC$1<>"Trésorerie"),"D","") | AD15: =IF(AND(M15="X",AD$1<>"Trésorerie"),"D","") | AE15: =IF(AND(N15="X",AE$1<>"Trésorerie"),"D","") | AF15: =IF(AND(O15="X",AF$1<>"Trésorerie"),"D","") | AG15: =IF(AND(P15="X",AG$1<>"Trésorerie"),"D","") | AH15: =IF(AND(Q15="X",AH$1<>"Trésorerie"),"D","") | AI15: =IF(AND(R15="X",AI$1<>"Trésorerie"),"D","") | ... AK15: =IF(AND(T15="X",AK$1<>"Trésorerie"),"D","")
A16: 45692 | B16: FLUTE DE PAN | C16: Partition Ed Sheeran | D16: AC013 | E16: 91.6 | F16: Achat de partitions | G16: Partitions/Matériel musical | H16: CB | O16: X | U16: =IF(ISBLANK(F16),0,1) -> 1 | V16: =IF(F16="","",IF(COUNTIF('Postes comptables'!$A:$C,F16)=0,"Anomalie","")) | W16: =MONTH(A16) -> 2 | X16: =IF(F16="","",MATCH(F16,'Postes comptables'!$C$3:$C$45,0)) -> 2 | Y16: {=IF(X16="","",INDEX('Postes comptables'!$B$3:$B$45,X16,0))} -> 60-02 | Z16: =IF(G16="","",IF(COUNTIF('Postes comptables'!$C$99:$C$148,G16)=0,"Anomalie","")) | AA16: =IF(AND(F16="",A16<>"",COUNTIF(AB16:AK16,"D")=0),TRUE,FALSE) -> FALSE | AB16: =IF(AND(K16="X",AB$1<>"Trésorerie"),"D","") | AC16: =IF(AND(L16="X",AC$1<>"Trésorerie"),"D","") | AD16: =IF(AND(M16="X",AD$1<>"Trésorerie"),"D","") | AE16: =IF(AND(N16="X",AE$1<>"Trésorerie"),"D","") | AF16: =IF(AND(O16="X",AF$1<>"Trésorerie"),"D","") | AG16: =IF(AND(P16="X",AG$1<>"Trésorerie"),"D","") | AH16: =IF(AND(Q16="X",AH$1<>"Trésorerie"),"D","") | AI16: =IF(AND(R16="X",AI$1<>"Trésorerie"),"D","") | ... AK16: =IF(AND(T16="X",AK$1<>"Trésorerie"),"D","")
